BEGIN:VCALENDAR
VERSION:2.0
PRODID:-//Mercato Coperto Ravenna - ECPv6.15.20//NONSGML v1.0//EN
CALSCALE:GREGORIAN
METHOD:PUBLISH
X-WR-CALNAME:Mercato Coperto Ravenna
X-ORIGINAL-URL:https://mercatocopertodiravenna.it
X-WR-CALDESC:Eventi per Mercato Coperto Ravenna
REFRESH-INTERVAL;VALUE=DURATION:PT1H
X-Robots-Tag:noindex
X-PUBLISHED-TTL:PT1H
BEGIN:VTIMEZONE
TZID:Europe/Rome
BEGIN:DAYLIGHT
TZOFFSETFROM:+0100
TZOFFSETTO:+0200
TZNAME:CEST
DTSTART:20250330T010000
END:DAYLIGHT
BEGIN:STANDARD
TZOFFSETFROM:+0200
TZOFFSETTO:+0100
TZNAME:CET
DTSTART:20251026T010000
END:STANDARD
BEGIN:DAYLIGHT
TZOFFSETFROM:+0100
TZOFFSETTO:+0200
TZNAME:CEST
DTSTART:20260329T010000
END:DAYLIGHT
BEGIN:STANDARD
TZOFFSETFROM:+0200
TZOFFSETTO:+0100
TZNAME:CET
DTSTART:20261025T010000
END:STANDARD
BEGIN:DAYLIGHT
TZOFFSETFROM:+0100
TZOFFSETTO:+0200
TZNAME:CEST
DTSTART:20270328T010000
END:DAYLIGHT
BEGIN:STANDARD
TZOFFSETFROM:+0200
TZOFFSETTO:+0100
TZNAME:CET
DTSTART:20271031T010000
END:STANDARD
END:VTIMEZONE
BEGIN:VEVENT
DTSTART;TZID=Europe/Rome:20260510T160000
DTEND;TZID=Europe/Rome:20260510T180000
DTSTAMP:20260423T220136
CREATED:20260414T101901Z
LAST-MODIFIED:20260414T101901Z
UID:11143-1778428800-1778436000@mercatocopertodiravenna.it
SUMMARY:Realizza il tuo gioiello
DESCRIPTION:Tra chiacchiere e risate\, trascorrerai due ore da sogno e potrai scegliere i materiali e il design del tuo gioiello\, con l’aiuto della nostra esperta\, Anna Rita Pinto\, founder di ARP Atelier. \nPorta a casa il tuo gioiello\nDurata: 2 ore\nCosto: 38€ a persona\n(bracciale personalizzato e aperitivo incluso)\nSu prenotazione: da 2 a 10 persone \nScopri la magia di creare un bracciale personalizzato in pietre semi preziose e argento 925.\nAl termine del laboratorio\, nella location esclusiva del Mercato Coperto di Ravenna\, ti attenderà un gustoso aperitivo a tua scelta! \nAnna Rita Pinto – ARP Atelier\nÈ una creativa innamorata dell’arte orafa italiana\, che ha fatto della sua passione il suo lavoro. Arp Atelier è il suo laboratorio digitale dove puoi scoprire i gioielli che crea.\nL’Atelier è un pezzo di se\, di ciò che è. Sceglie pietre e metalli preziosi\, accosta colori e forme come se dovesse dipingere una tela. Ama le pietre naturali semi preziose\, colorate\, non trattate; le piace ricercare il significato e i loro effetti benefici. \nGLI APPUNTAMENTI: \n19 aprile | 10 maggio | 7 giugno |12 luglio | 9 agosto \nSU PRENOTAZIONE:\nAnna Rita Pinto – Tel. 349 5258544\nMercato Coperto\, Piazza Costa 2\, Ravenna
URL:https://mercatocopertodiravenna.it/evento/realizza-il-tuo-gioiello-2/
LOCATION:Mercato Coperto Ravenna\, Piazza Andrea Costa\, Ravenna\, RA\, 48121\, Italia
CATEGORIES:Laboratorio di oreficeria
ATTACH;FMTTYPE=image/jpeg:https://mercatocopertodiravenna.it/wp-content/uploads/2026/04/LABORATORIO-DI-OREFICERIA_MERCATOCOPERTO.jpg
END:VEVENT
BEGIN:VEVENT
DTSTART;TZID=Europe/Rome:20260607T160000
DTEND;TZID=Europe/Rome:20260607T180000
DTSTAMP:20260423T220136
CREATED:20260414T102402Z
LAST-MODIFIED:20260414T102402Z
UID:11148-1780848000-1780855200@mercatocopertodiravenna.it
SUMMARY:Realizza il tuo gioiello
DESCRIPTION:Tra chiacchiere e risate\, trascorrerai due ore da sogno e potrai scegliere i materiali e il design del tuo gioiello\, con l’aiuto della nostra esperta\, Anna Rita Pinto\, founder di ARP Atelier. \nPorta a casa il tuo gioiello\nDurata: 2 ore\nCosto: 38€ a persona\n(bracciale personalizzato e aperitivo incluso)\nSu prenotazione: da 2 a 10 persone \nScopri la magia di creare un bracciale personalizzato in pietre semi preziose e argento 925.\nAl termine del laboratorio\, nella location esclusiva del Mercato Coperto di Ravenna\, ti attenderà un gustoso aperitivo a tua scelta! \nAnna Rita Pinto – ARP Atelier\nÈ una creativa innamorata dell’arte orafa italiana\, che ha fatto della sua passione il suo lavoro. Arp Atelier è il suo laboratorio digitale dove puoi scoprire i gioielli che crea.\nL’Atelier è un pezzo di se\, di ciò che è. Sceglie pietre e metalli preziosi\, accosta colori e forme come se dovesse dipingere una tela. Ama le pietre naturali semi preziose\, colorate\, non trattate; le piace ricercare il significato e i loro effetti benefici. \nGLI APPUNTAMENTI: \n19 aprile | 10 maggio | 7 giugno |12 luglio | 9 agosto \nSU PRENOTAZIONE:\nAnna Rita Pinto – Tel. 349 5258544\nMercato Coperto\, Piazza Costa 2\, Ravenna
URL:https://mercatocopertodiravenna.it/evento/realizza-il-tuo-gioiello-2-2/
LOCATION:Mercato Coperto Ravenna\, Piazza Andrea Costa\, Ravenna\, RA\, 48121\, Italia
CATEGORIES:Laboratorio di oreficeria
ATTACH;FMTTYPE=image/jpeg:https://mercatocopertodiravenna.it/wp-content/uploads/2026/04/LABORATORIO-DI-OREFICERIA_MERCATOCOPERTO.jpg
END:VEVENT
BEGIN:VEVENT
DTSTART;TZID=Europe/Rome:20260712T160000
DTEND;TZID=Europe/Rome:20260712T180000
DTSTAMP:20260423T220136
CREATED:20260414T102414Z
LAST-MODIFIED:20260414T102414Z
UID:11149-1783872000-1783879200@mercatocopertodiravenna.it
SUMMARY:Realizza il tuo gioiello
DESCRIPTION:Tra chiacchiere e risate\, trascorrerai due ore da sogno e potrai scegliere i materiali e il design del tuo gioiello\, con l’aiuto della nostra esperta\, Anna Rita Pinto\, founder di ARP Atelier. \nPorta a casa il tuo gioiello\nDurata: 2 ore\nCosto: 38€ a persona\n(bracciale personalizzato e aperitivo incluso)\nSu prenotazione: da 2 a 10 persone \nScopri la magia di creare un bracciale personalizzato in pietre semi preziose e argento 925.\nAl termine del laboratorio\, nella location esclusiva del Mercato Coperto di Ravenna\, ti attenderà un gustoso aperitivo a tua scelta! \nAnna Rita Pinto – ARP Atelier\nÈ una creativa innamorata dell’arte orafa italiana\, che ha fatto della sua passione il suo lavoro. Arp Atelier è il suo laboratorio digitale dove puoi scoprire i gioielli che crea.\nL’Atelier è un pezzo di se\, di ciò che è. Sceglie pietre e metalli preziosi\, accosta colori e forme come se dovesse dipingere una tela. Ama le pietre naturali semi preziose\, colorate\, non trattate; le piace ricercare il significato e i loro effetti benefici. \nGLI APPUNTAMENTI: \n19 aprile | 10 maggio | 7 giugno |12 luglio | 9 agosto \nSU PRENOTAZIONE:\nAnna Rita Pinto – Tel. 349 5258544\nMercato Coperto\, Piazza Costa 2\, Ravenna
URL:https://mercatocopertodiravenna.it/evento/realizza-il-tuo-gioiello-2-3/
LOCATION:Mercato Coperto Ravenna\, Piazza Andrea Costa\, Ravenna\, RA\, 48121\, Italia
CATEGORIES:Laboratorio di oreficeria
ATTACH;FMTTYPE=image/jpeg:https://mercatocopertodiravenna.it/wp-content/uploads/2026/04/LABORATORIO-DI-OREFICERIA_MERCATOCOPERTO.jpg
END:VEVENT
BEGIN:VEVENT
DTSTART;TZID=Europe/Rome:20260809T160000
DTEND;TZID=Europe/Rome:20260809T180000
DTSTAMP:20260423T220136
CREATED:20260414T102427Z
LAST-MODIFIED:20260414T102427Z
UID:11150-1786291200-1786298400@mercatocopertodiravenna.it
SUMMARY:Realizza il tuo gioiello
DESCRIPTION:Tra chiacchiere e risate\, trascorrerai due ore da sogno e potrai scegliere i materiali e il design del tuo gioiello\, con l’aiuto della nostra esperta\, Anna Rita Pinto\, founder di ARP Atelier. \nPorta a casa il tuo gioiello\nDurata: 2 ore\nCosto: 38€ a persona\n(bracciale personalizzato e aperitivo incluso)\nSu prenotazione: da 2 a 10 persone \nScopri la magia di creare un bracciale personalizzato in pietre semi preziose e argento 925.\nAl termine del laboratorio\, nella location esclusiva del Mercato Coperto di Ravenna\, ti attenderà un gustoso aperitivo a tua scelta! \nAnna Rita Pinto – ARP Atelier\nÈ una creativa innamorata dell’arte orafa italiana\, che ha fatto della sua passione il suo lavoro. Arp Atelier è il suo laboratorio digitale dove puoi scoprire i gioielli che crea.\nL’Atelier è un pezzo di se\, di ciò che è. Sceglie pietre e metalli preziosi\, accosta colori e forme come se dovesse dipingere una tela. Ama le pietre naturali semi preziose\, colorate\, non trattate; le piace ricercare il significato e i loro effetti benefici. \nGLI APPUNTAMENTI: \n19 aprile | 10 maggio | 7 giugno |12 luglio | 9 agosto \nSU PRENOTAZIONE:\nAnna Rita Pinto – Tel. 349 5258544\nMercato Coperto\, Piazza Costa 2\, Ravenna
URL:https://mercatocopertodiravenna.it/evento/realizza-il-tuo-gioiello-2-4/
LOCATION:Mercato Coperto Ravenna\, Piazza Andrea Costa\, Ravenna\, RA\, 48121\, Italia
CATEGORIES:Laboratorio di oreficeria
ATTACH;FMTTYPE=image/jpeg:https://mercatocopertodiravenna.it/wp-content/uploads/2026/04/LABORATORIO-DI-OREFICERIA_MERCATOCOPERTO.jpg
END:VEVENT
END:VCALENDAR